BEGIN:VCALENDAR
VERSION:2.0
PRODID:SchoolNow
CALSCALE:GREGORIAN
BEGIN:VEVENT
UID:4b6e4f9e-096d-11ef-ab1d-02f6d10f2f09
DTSTAMP:20240505T150750Z
SUMMARY:MW Full School Field Day and BBQ - June 10\, 2024
LOCATION:Mast Way Elementary School
URL;VALUE=URI:https://www.orcsd.org/mw/calendar/5907057/full-school-field-d
 ay-and-bbq-june-10-2024
DTSTART:20240610T130000Z
DTEND:20240610T160000Z
END:VEVENT
END:VCALENDAR
