BEGIN:VCALENDAR
VERSION:2.0
PRODID:SchoolNow
CALSCALE:GREGORIAN
BEGIN:VEVENT
UID:eea1a490-096d-11ef-ade7-0e9b5296e6ef
DTSTAMP:20240530T145040Z
SUMMARY:MW First Grade Barnyard Moosical - June 10\, 2024
LOCATION:Middle School
URL;VALUE=URI:https://www.orcsd.org/mw/calendar/5907058/first-grade-barnyar
 d-moosical-june-10-2024
DTSTART:20240610T213000Z
DTEND:20240610T230000Z
END:VEVENT
END:VCALENDAR
