BEGIN:VCALENDAR
VERSION:2.0
PRODID:SchoolNow
CALSCALE:GREGORIAN
BEGIN:VEVENT
UID:46e42c40-096e-11ef-9bf3-0ef89f27cfad
DTSTAMP:20240503T165751Z
SUMMARY:Last Day of School! - June 14\, 2024
LOCATION:Mast Way Elementary School
URL;VALUE=URI:https://www.orcsd.org/mw/calendar/5907059/last-day-of-school-
 june-14-2024
DTSTART:20240614T125000Z
DTEND:20240614T163500Z
END:VEVENT
END:VCALENDAR
