BEGIN:VCALENDAR
VERSION:2.0
PRODID:SchoolNow
CALSCALE:GREGORIAN
BEGIN:VEVENT
UID:f9c057de-0d43-11ef-93bc-0a58a9feac02
DTSTAMP:20240521T140951Z
SUMMARY:School Board Meeting-September 4\, 2024
URL;VALUE=URI:https://www.orcsd.org/mw/calendar/5936846/school-board-meetin
 g-september-4-2024
DTSTART:20240904T230000Z
DTEND:20240905T003000Z
END:VEVENT
END:VCALENDAR
