BEGIN:VCALENDAR
VERSION:2.0
PRODID:SchoolNow
CALSCALE:GREGORIAN
BEGIN:VEVENT
UID:3f38d674-0d44-11ef-9d64-0a58a9feac02
DTSTAMP:20241002T192000Z
SUMMARY:School Board Meeting-October 22\, 2024
URL;VALUE=URI:https://www.orcsd.org/mw/calendar/5936858/school-board-meetin
 g-october-17-2024
DTSTART:20241022T230000Z
DTEND:20241023T003000Z
END:VEVENT
END:VCALENDAR
