BEGIN:VCALENDAR
VERSION:2.0
PRODID:SchoolNow
CALSCALE:GREGORIAN
BEGIN:VEVENT
UID:8f6cc870-241a-11ef-bd43-0afff22e0e15
DTSTAMP:20240606T153636Z
SUMMARY:MW Open House - September 19\, 2024
URL;VALUE=URI:https://www.orcsd.org/mw/calendar/6085861/mw-open-house-septe
 mber-19-2024
DTSTART:20240919T213000Z
DTEND:20240919T230000Z
END:VEVENT
END:VCALENDAR
