BEGIN:VCALENDAR
VERSION:2.0
PRODID:SchoolNow
CALSCALE:GREGORIAN
BEGIN:VEVENT
UID:59297a4c-64a7-11ef-a9f7-02b36ebfccff
DTSTAMP:20240828T184246Z
SUMMARY:Community Conversations - Elementary Families - September 11\, 2024
URL;VALUE=URI:https://www.orcsd.org/mw/calendar/6469956/community-conversat
 ions-elementary-families
DTSTART:20240911T230000Z
DTEND:20240912T000000Z
END:VEVENT
END:VCALENDAR
