BEGIN:VCALENDAR
VERSION:2.0
PRODID:SchoolNow
CALSCALE:GREGORIAN
BEGIN:VEVENT
UID:640bd66c-64a7-11ef-a1ef-0e1074f31ff7
DTSTAMP:20240828T184321Z
SUMMARY:Community Conversations - Middle School Families - September 24\, 2
 024
URL;VALUE=URI:https://www.orcsd.org/mw/calendar/6469960/community-conversat
 ions-middle-school-families
DTSTART:20240924T230000Z
DTEND:20240925T000000Z
END:VEVENT
END:VCALENDAR
