BEGIN:VCALENDAR
VERSION:2.0
PRODID:SchoolNow
CALSCALE:GREGORIAN
BEGIN:VEVENT
UID:709024e2-64a7-11ef-8e13-0a58a9feac02
DTSTAMP:20240828T184447Z
SUMMARY:Community Conversations - High School Families - October 8\, 2024
URL;VALUE=URI:https://www.orcsd.org/mw/calendar/6469964/community-conversat
 ions-high-school-families
DTSTART:20241008T230000Z
DTEND:20241009T000000Z
END:VEVENT
END:VCALENDAR
