BEGIN:VCALENDAR
VERSION:2.0
PRODID:SchoolNow
CALSCALE:GREGORIAN
BEGIN:VEVENT
UID:b81ac056-64a7-11ef-ad44-0ebc0c4974e5
DTSTAMP:20240828T184402Z
SUMMARY:Community Conversations - Elementary Families - October 3\, 2024
URL;VALUE=URI:https://www.orcsd.org/mw/calendar/6469968/community-conversat
 ions-elementary-families
DTSTART:20241003T230000Z
DTEND:20241004T000000Z
END:VEVENT
END:VCALENDAR
