BEGIN:VCALENDAR
VERSION:2.0
PRODID:SchoolNow
CALSCALE:GREGORIAN
BEGIN:VEVENT
UID:b7f341c6-6faf-11ef-b241-0afff7df8a9b
DTSTAMP:20240912T135341Z
SUMMARY:MW Technology/Library Night-September 17\, 2024
LOCATION:Mast Way School
URL;VALUE=URI:https://www.orcsd.org/mw/calendar/6570982/technology-library-
 night
DTSTART:20240917T220000Z
DTEND:20240917T230000Z
END:VEVENT
END:VCALENDAR
