BEGIN:VCALENDAR
VERSION:2.0
PRODID:SchoolNow
CALSCALE:GREGORIAN
BEGIN:VEVENT
UID:4d4916a6-75c8-11ef-8c63-0a58a9feac02
DTSTAMP:20240918T141422Z
SUMMARY:Community Conversations OR Alumni-October 16\, 2024
URL;VALUE=URI:https://www.orcsd.org/mw/calendar/6633923/community-conversat
 ions-or-alumni
DTSTART:20241017T000000Z
DTEND:20241017T010000Z
END:VEVENT
END:VCALENDAR
