BEGIN:VCALENDAR
VERSION:2.0
PRODID:SchoolNow
CALSCALE:GREGORIAN
BEGIN:VEVENT
UID:37c818e2-864c-11ef-bfe7-0271ad682c47
DTSTAMP:20241010T155245Z
SUMMARY:Picture Re-Take Day and Class Photo Day - October 25\, 2024
URL;VALUE=URI:https://www.orcsd.org/mw/calendar/6790693/picture-re-take-day
 -and-class-photo-day
DTSTART;VALUE=DATE:20241025
DTEND;VALUE=DATE:20241026
END:VEVENT
END:VCALENDAR
