BEGIN:VCALENDAR
VERSION:2.0
PRODID:SchoolNow
CALSCALE:GREGORIAN
BEGIN:VEVENT
UID:ed0e57e6-864e-11ef-8001-0affc98f998f
DTSTAMP:20241022T162715Z
SUMMARY:MW PTO Spooktacular - October 25\, 2024
URL;VALUE=URI:https://www.orcsd.org/mw/calendar/6790697/pto-spooktacular-oc
 tober-25-2024
DTSTART:20241025T220000Z
DTEND:20241025T234500Z
END:VEVENT
END:VCALENDAR
