BEGIN:VCALENDAR
VERSION:2.0
PRODID:SchoolNow
CALSCALE:GREGORIAN
BEGIN:VEVENT
UID:cac25a00-0c6c-11ee-9221-0af016dcfc85
DTSTAMP:20230616T175550Z
SUMMARY:Bond & Budget Hearing-January 10\, 2024
URL;VALUE=URI:https://www.orcsd.org/orhs/calendar/4398442/bond-budget-heari
 ng-january-10-2024
DTSTART:20240111T000000Z
DTEND:20240111T020000Z
END:VEVENT
END:VCALENDAR
