BEGIN:VCALENDAR
VERSION:2.0
PRODID:SchoolNow
CALSCALE:GREGORIAN
BEGIN:VEVENT
UID:d69bf5e8-ce6d-11ee-a1c8-0e869ae24d11
DTSTAMP:20240322T194105Z
SUMMARY:ORHS Little Women Musical - March 23\, 2024
URL;VALUE=URI:https://www.orcsd.org/orhs/calendar/5353851/orhs-little-women
 -musical-march-23-2024
DTSTART:20240323T230000Z
DTEND:20240325T010000Z
END:VEVENT
END:VCALENDAR
