BEGIN:VCALENDAR
VERSION:2.0
PRODID:SchoolNow
CALSCALE:GREGORIAN
BEGIN:VEVENT
UID:5b27a81c-9581-11f0-8036-0a58a9feac02
DTSTAMP:20250919T175206Z
SUMMARY:ORHS/MS Orchestra Concert - May 19\, 2026
URL;VALUE=URI:https://www.orcsd.org/orhs/calendar/8643202/orhs-ms-orchestra
 -concert-may-19-2026
DTSTART:20260519T220000Z
DTEND:20260519T233000Z
END:VEVENT
END:VCALENDAR
