BEGIN:VCALENDAR
VERSION:2.0
PRODID:SchoolNow
CALSCALE:GREGORIAN
BEGIN:VEVENT
UID:1f536b8e-0d45-11ef-a4f6-0a58a9feac02
DTSTAMP:20250523T164740Z
SUMMARY:School Board Meeting-January 15\, 2025
URL;VALUE=URI:https://www.orcsd.org/orms/calendar/5936890/school-board-meet
 ing-january-15-2025
DTSTART:20250116T000000Z
DTEND:20250116T013000Z
END:VEVENT
END:VCALENDAR
