BEGIN:VCALENDAR
VERSION:2.0
PRODID:SchoolNow
CALSCALE:GREGORIAN
BEGIN:VEVENT
UID:d1fb22e0-3fb3-11ef-81cb-0a58a9feac02
DTSTAMP:20241022T141649Z
SUMMARY:ORMS 5th Grade Concert-January 23\, 2025
URL;VALUE=URI:https://www.orcsd.org/orms/calendar/6247077/orms-5th-grade-co
 ncert-january-23-2025
DTSTART:20250123T230000Z
DTEND:20250124T010000Z
END:VEVENT
END:VCALENDAR
