BEGIN:VCALENDAR
VERSION:2.0
PRODID:SchoolNow
CALSCALE:GREGORIAN
BEGIN:VEVENT
UID:db946254-871a-11ef-a442-0a58a9feac02
DTSTAMP:20250116T143445Z
SUMMARY:ORMS Musical-January 18\, 2025
URL;VALUE=URI:https://www.orcsd.org/orms/calendar/6798028/orms-musical-janu
 ary-17-2025-clone
DTSTART:20250119T000000Z
DTEND:20250119T013000Z
END:VEVENT
END:VCALENDAR
