BEGIN:VCALENDAR
VERSION:2.0
PRODID:SchoolNow
CALSCALE:GREGORIAN
BEGIN:VEVENT
UID:0bc00000-871b-11ef-90c0-0a58a9feac02
DTSTAMP:20250116T143500Z
SUMMARY:ORMS Musical Afternoon Performance-January 19\, 2025
URL;VALUE=URI:https://www.orcsd.org/orms/calendar/6798030/orms-musical-janu
 ary-17-2025-clone-clone-clone
DTSTART:20250119T190000Z
DTEND:20250119T213000Z
END:VEVENT
END:VCALENDAR
