BEGIN:VCALENDAR
VERSION:2.0
PRODID:SchoolNow
CALSCALE:GREGORIAN
BEGIN:VEVENT
UID:f67d415a-871d-11ef-a8de-0271ad682c47
DTSTAMP:20241010T154023Z
SUMMARY:ORMS Band Concert-April 22\, 2025
URL;VALUE=URI:https://www.orcsd.org/orms/calendar/6798036/orms-band-concert
 -april-22-2025
DTSTART:20250422T220000Z
DTEND:20250422T233000Z
END:VEVENT
END:VCALENDAR
