BEGIN:VCALENDAR
VERSION:2.0
PRODID:SchoolNow
CALSCALE:GREGORIAN
BEGIN:VEVENT
UID:460a55ac-ceca-11ef-85a0-0a58a9feac02
DTSTAMP:20250109T204242Z
SUMMARY:Teacher Workshop Day - August 25\, 2025
URL;VALUE=URI:https://www.orcsd.org/orms/calendar/7293286/teacher-workshop-
 day-august-25-2025
DTSTART;VALUE=DATE:20250825
DTEND;VALUE=DATE:20250826
END:VEVENT
END:VCALENDAR
