BEGIN:VCALENDAR
VERSION:2.0
PRODID:SchoolNow
CALSCALE:GREGORIAN
BEGIN:VEVENT
UID:c0c10ab2-37f6-11f0-9ad0-023b6e08e957
DTSTAMP:20250523T165538Z
SUMMARY:ORCSD School Board Meeting - February 18\, 2026
URL;VALUE=URI:https://www.orcsd.org/orms/calendar/8187435/orcsd-school-boar
 d-meeting-february-18-2026
DTSTART:20260219T000000Z
DTEND:20260219T010000Z
END:VEVENT
END:VCALENDAR
