BEGIN:VCALENDAR
VERSION:2.0
PRODID:SchoolNow
CALSCALE:GREGORIAN
BEGIN:VEVENT
UID:01a48088-76e8-11f0-8c33-0a58a9feac02
DTSTAMP:20250811T191848Z
SUMMARY:ORMS Chorus Concert - December 18\, 2025
URL;VALUE=URI:https://www.orcsd.org/orms/calendar/8491614/orms-chorus-conce
 rt-december-18-2025
DTSTART:20251218T230000Z
DTEND:20251219T003000Z
END:VEVENT
END:VCALENDAR
