BEGIN:VCALENDAR
VERSION:2.0
PRODID:SchoolNow
CALSCALE:GREGORIAN
BEGIN:VEVENT
UID:c9a1b620-97d4-11f0-898b-0a58a9feac02
DTSTAMP:20250922T165422Z
SUMMARY:ORMS SAS Reading - April 21\, 2026
URL;VALUE=URI:https://www.orcsd.org/orms/calendar/8653111/orms-sas-reading-
 april-21-2026
DTSTART;VALUE=DATE:20260421
DTEND;VALUE=DATE:20260422
END:VEVENT
END:VCALENDAR
